BEGIN:VCALENDAR
PRODID:-//hacksw/handcal//NONSGML v1.0//EN
VERSION:2.0
CALSCALE:GREGORIAN
METHOD:PUBLISH
X-WR-CALNAME:Docker Buenos Aires - Docker Meetup #2 @Medallia
X-WR-TIMEZONE:Europe/Madrid
X-WR-CALDESC:Docker Buenos Aires - Docker Meetup #2 @Medallia
BEGIN:VEVENT
DTSTART:20150520T223000Z
DTEND:20150520T233000Z
DTSTAMP:20150520T223000Z
UID:d84c519e1734dc5ccb516872dce90aad@betabeers.com
CREATED:20150516T230040Z
DESCRIPTION:https://betabeers.com/en/event/docker-buenos-aires-docker-meetu
p-2-medallia-20-mayo-2015-2738/
URL:https://betabeers.com/en/event/docker-buenos-aires-docker-meetup-2-meda
llia-20-mayo-2015-2738/
LAST-MODIFIED:20150516T230040Z
LOCATION:Humboldt 1550, 3er piso oficina 306, Buenos Aires, Argentina
SEQUENCE:0
STATUS:CONFIRMED
SUMMARY:Docker Buenos Aires - Docker Meetup #2 @Medallia
TRANSP:OPAQUE
END:VEVENT
END:VCALENDAR
