BEGIN:VCALENDAR
PRODID:-//hacksw/handcal//NONSGML v1.0//EN
VERSION:2.0
CALSCALE:GREGORIAN
METHOD:PUBLISH
X-WR-CALNAME:Do it Lean
X-WR-TIMEZONE:Europe/Madrid
X-WR-CALDESC:Do it Lean
BEGIN:VEVENT
DTSTART:20150701T150000Z
DTEND:20150701T190000Z
DTSTAMP:20150701T150000Z
UID:ddac0b88f723d53ec3ef2fa19dd11c59@betabeers.com
CREATED:20150514T100300Z
DESCRIPTION:https://betabeers.com/en/event/do-it-lean-2733/
URL:https://betabeers.com/en/event/do-it-lean-2733/
LAST-MODIFIED:20150514T100300Z
LOCATION:La Salle Campus Barcelona c/ Sant Joan de La Salle, 42  08022 Barc
elona, Barcelona, España
SEQUENCE:0
STATUS:CONFIRMED
SUMMARY:Do it Lean
TRANSP:OPAQUE
END:VEVENT
END:VCALENDAR
