BEGIN:VCALENDAR
PRODID:-//hacksw/handcal//NONSGML v1.0//EN
VERSION:2.0
CALSCALE:GREGORIAN
METHOD:PUBLISH
X-WR-CALNAME:DrupalCamp Spain 2015
X-WR-TIMEZONE:Europe/Madrid
X-WR-CALDESC:DrupalCamp Spain 2015
BEGIN:VEVENT
DTSTART:20150522T080000Z
DTEND:20150524T140000Z
DTSTAMP:20150522T080000Z
UID:0f93e47996a9cfc2576b5698ce73d220@betabeers.com
CREATED:20150512T123904Z
DESCRIPTION:https://betabeers.com/en/event/drupalcamp-spain-2015-22-mayo-20
15-2730/
URL:https://betabeers.com/en/event/drupalcamp-spain-2015-22-mayo-2015-2730/
LAST-MODIFIED:20150512T123904Z
LOCATION:Campus Universitario de la Asunción, Avenida de la Universidad, s
/n, Jerez de la Frontera, España
SEQUENCE:0
STATUS:CONFIRMED
SUMMARY:DrupalCamp Spain 2015
TRANSP:OPAQUE
END:VEVENT
END:VCALENDAR
