BEGIN:VCALENDAR
PRODID:-//hacksw/handcal//NONSGML v1.0//EN
VERSION:2.0
CALSCALE:GREGORIAN
METHOD:PUBLISH
X-WR-CALNAME:The Barcelona Python Meetup Group - Python May Meetup
X-WR-TIMEZONE:Europe/Madrid
X-WR-CALDESC:The Barcelona Python Meetup Group - Python May Meetup
BEGIN:VEVENT
DTSTART:20150521T180000Z
DTEND:20150521T190000Z
DTSTAMP:20150521T180000Z
UID:11c2d2cebfd79d9cbebee5ec19c0ae17@betabeers.com
CREATED:20150509T230008Z
DESCRIPTION:https://betabeers.com/en/event/the-barcelona-python-meetup-grou
p-python-may-meetup-21-mayo-2015-2720/
URL:https://betabeers.com/en/event/the-barcelona-python-meetup-group-python
-may-meetup-21-mayo-2015-2720/
LAST-MODIFIED:20150509T230008Z
LOCATION:c/ Dr. Aiguader, 88, Barcelona, España
SEQUENCE:0
STATUS:CONFIRMED
SUMMARY:The Barcelona Python Meetup Group - Python May Meetup
TRANSP:OPAQUE
END:VEVENT
END:VCALENDAR
