BEGIN:VCALENDAR
PRODID:-//hacksw/handcal//NONSGML v1.0//EN
VERSION:2.0
CALSCALE:GREGORIAN
METHOD:PUBLISH
X-WR-CALNAME:Linux-Málaga - Big Data con Cassandra
X-WR-TIMEZONE:Europe/Madrid
X-WR-CALDESC:Linux-Málaga - Big Data con Cassandra
BEGIN:VEVENT
DTSTART:20150508T163000Z
DTEND:20150508T173000Z
DTSTAMP:20150508T163000Z
UID:f94f5b878b3eefdf2164c04fcccc62a2@betabeers.com
CREATED:20150502T230154Z
DESCRIPTION:https://betabeers.com/en/event/linux-malaga-big-data-cassandra-
8-mayo-2015-2697/
URL:https://betabeers.com/en/event/linux-malaga-big-data-cassandra-8-mayo-2
015-2697/
LAST-MODIFIED:20150502T230154Z
LOCATION:Calle Corregidor Francisco de Molina, 1, Malaga, España
SEQUENCE:0
STATUS:CONFIRMED
SUMMARY:Linux-Málaga - Big Data con Cassandra
TRANSP:OPAQUE
END:VEVENT
END:VCALENDAR
