BEGIN:VCALENDAR
PRODID:-//hacksw/handcal//NONSGML v1.0//EN
VERSION:2.0
CALSCALE:GREGORIAN
METHOD:PUBLISH
X-WR-CALNAME:Node Sol - Hablar de node!
X-WR-TIMEZONE:Europe/Madrid
X-WR-CALDESC:Node Sol - Hablar de node!
BEGIN:VEVENT
DTSTART:20150508T083000Z
DTEND:20150508T093000Z
DTSTAMP:20150508T083000Z
UID:fde382fdde98d5df0c83ca73812a8039@betabeers.com
CREATED:20150502T230134Z
DESCRIPTION:https://betabeers.com/en/event/node-sol-hablar-node-8-mayo-2015
-2692/
URL:https://betabeers.com/en/event/node-sol-hablar-node-8-mayo-2015-2692/
LAST-MODIFIED:20150502T230134Z
LOCATION:severo ochoa, 27, Malaga, España
SEQUENCE:0
STATUS:CONFIRMED
SUMMARY:Node Sol - Hablar de node!
TRANSP:OPAQUE
END:VEVENT
END:VCALENDAR
