BEGIN:VCALENDAR
PRODID:-//hacksw/handcal//NONSGML v1.0//EN
VERSION:2.0
CALSCALE:GREGORIAN
METHOD:PUBLISH
X-WR-CALNAME:Scala Developers Barcelona - [INTRO] Akka basic Dojo
X-WR-TIMEZONE:Europe/Madrid
X-WR-CALDESC:Scala Developers Barcelona - [INTRO] Akka basic Dojo
BEGIN:VEVENT
DTSTART:20150513T180000Z
DTEND:20150513T190000Z
DTSTAMP:20150513T180000Z
UID:c9cf72091447dae9b3306cb4827dd2c4@betabeers.com
CREATED:20150502T230120Z
DESCRIPTION:https://betabeers.com/en/event/scala-developers-barcelona-intro
-akka-basic-dojo-13-mayo-2015-2688/
URL:https://betabeers.com/en/event/scala-developers-barcelona-intro-akka-ba
sic-dojo-13-mayo-2015-2688/
LAST-MODIFIED:20150502T230120Z
LOCATION:Carrer Bailèn, 11, 08010, Barcelona, España
SEQUENCE:0
STATUS:CONFIRMED
SUMMARY:Scala Developers Barcelona - [INTRO] Akka basic Dojo
TRANSP:OPAQUE
END:VEVENT
END:VCALENDAR
