BEGIN:VCALENDAR
PRODID:-//hacksw/handcal//NONSGML v1.0//EN
VERSION:2.0
CALSCALE:GREGORIAN
METHOD:PUBLISH
X-WR-CALNAME:MalagaMakers AFTER7, SPECIAL TERRACE EDITION - June
X-WR-TIMEZONE:Europe/Madrid
X-WR-CALDESC:MalagaMakers AFTER7, SPECIAL TERRACE EDITION - June
BEGIN:VEVENT
DTSTART:20150611T180000Z
DTEND:20150611T200000Z
DTSTAMP:20150611T180000Z
UID:58828edf3991c8d266fc31b78658a57f@betabeers.com
CREATED:20150424T111543Z
DESCRIPTION:https://betabeers.com/en/event/malagamakers-after7-special-terr
ace-edition-june-2659/
URL:https://betabeers.com/en/event/malagamakers-after7-special-terrace-edit
ion-june-2659/
LAST-MODIFIED:20150424T111543Z
LOCATION:TBD, Malaga, España
SEQUENCE:0
STATUS:CONFIRMED
SUMMARY:MalagaMakers AFTER7, SPECIAL TERRACE EDITION - June
TRANSP:OPAQUE
END:VEVENT
END:VCALENDAR
