BEGIN:VCALENDAR
PRODID:-//hacksw/handcal//NONSGML v1.0//EN
VERSION:2.0
CALSCALE:GREGORIAN
METHOD:PUBLISH
X-WR-CALNAME:Protocols Plugfest Europe 2015 [12-13-14 mayo, Zaragoza]
X-WR-TIMEZONE:Europe/Madrid
X-WR-CALDESC:Protocols Plugfest Europe 2015 [12-13-14 mayo, Zaragoza]
BEGIN:VEVENT
DTSTART:20150512T073000Z
DTEND:20150514T153000Z
DTSTAMP:20150512T073000Z
UID:ef905255cf70c30f8cb86ac72c7e7da9@betabeers.com
CREATED:20150421T161849Z
DESCRIPTION:https://betabeers.com/en/event/protocols-plugfest-europe-2015-1
2-13-14-mayo-zaragoza-2655/
URL:https://betabeers.com/en/event/protocols-plugfest-europe-2015-12-13-14-
mayo-zaragoza-2655/
LAST-MODIFIED:20150421T161849Z
LOCATION:Etopia Center for Arts & Technology, Avda. de la Autonomía, 50003
, Zaragoza, España
SEQUENCE:0
STATUS:CONFIRMED
SUMMARY:Protocols Plugfest Europe 2015 [12-13-14 mayo, Zaragoza]
TRANSP:OPAQUE
END:VEVENT
END:VCALENDAR
