BEGIN:VCALENDAR
PRODID:-//hacksw/handcal//NONSGML v1.0//EN
VERSION:2.0
CALSCALE:GREGORIAN
METHOD:PUBLISH
X-WR-CALNAME:SpaceApps Challenge Valencia
X-WR-TIMEZONE:Europe/Madrid
X-WR-CALDESC:SpaceApps Challenge Valencia
BEGIN:VEVENT
DTSTART:20150410T183000Z
DTEND:20150412T180000Z
DTSTAMP:20150410T183000Z
UID:27e8996372cf0829f4d99ba9c6c925a3@betabeers.com
CREATED:20150404T003134Z
DESCRIPTION:https://betabeers.com/en/event/spaceapps-challenge-valencia-10-
abril-2015-2599/
URL:https://betabeers.com/en/event/spaceapps-challenge-valencia-10-abril-20
15-2599/
LAST-MODIFIED:20150404T003134Z
LOCATION:c/ juan verdeguer n 16, Valencia, España
SEQUENCE:0
STATUS:CONFIRMED
SUMMARY:SpaceApps Challenge Valencia
TRANSP:OPAQUE
END:VEVENT
END:VCALENDAR
