BEGIN:VCALENDAR
PRODID:-//hacksw/handcal//NONSGML v1.0//EN
VERSION:2.0
CALSCALE:GREGORIAN
METHOD:PUBLISH
X-WR-CALNAME:The Barcelona Python Meetup Group - Python March Meetup
X-WR-TIMEZONE:Europe/Madrid
X-WR-CALDESC:The Barcelona Python Meetup Group - Python March Meetup
BEGIN:VEVENT
DTSTART:20150326T180000Z
DTEND:20150326T190000Z
DTSTAMP:20150326T180000Z
UID:6ca50a07c0b974d35621ec794bf142b3@betabeers.com
CREATED:20150321T230009Z
DESCRIPTION:https://betabeers.com/en/event/the-barcelona-python-meetup-grou
p-python-march-meetup-26-marzo-2015-2588/
URL:https://betabeers.com/en/event/the-barcelona-python-meetup-group-python
-march-meetup-26-marzo-2015-2588/
LAST-MODIFIED:20150321T230009Z
LOCATION:the hacker accelerator, Barcelona, España
SEQUENCE:0
STATUS:CONFIRMED
SUMMARY:The Barcelona Python Meetup Group - Python March Meetup
TRANSP:OPAQUE
END:VEVENT
END:VCALENDAR
