BEGIN:VCALENDAR
PRODID:-//hacksw/handcal//NONSGML v1.0//EN
VERSION:2.0
CALSCALE:GREGORIAN
METHOD:PUBLISH
X-WR-CALNAME:JBCNconf - 1st Java & JVM Conference [June 26-27 - Barcelona]
X-WR-TIMEZONE:Europe/Madrid
X-WR-CALDESC:JBCNconf - 1st Java & JVM Conference [June 26-27 - Barcelona]
BEGIN:VEVENT
DTSTART:20150626T070000Z
DTEND:20150627T180000Z
DTSTAMP:20150626T070000Z
UID:200e3f42249ef4587eaabad0d0d6dec5@betabeers.com
CREATED:20150317T172428Z
DESCRIPTION:https://betabeers.com/en/event/jbcnconf-1st-java-jvm-conference
-june-26-27-barcelona-2570/
URL:https://betabeers.com/en/event/jbcnconf-1st-java-jvm-conference-june-26
-27-barcelona-2570/
LAST-MODIFIED:20150317T172428Z
LOCATION:Facultat d'Informàtica de Barcelona. Universitat Politècnica de 
Catalunya (UPC) - Campus Nord, Barcelona, España
SEQUENCE:0
STATUS:CONFIRMED
SUMMARY:JBCNconf - 1st Java & JVM Conference [June 26-27 - Barcelona]
TRANSP:OPAQUE
END:VEVENT
END:VCALENDAR
