BEGIN:VCALENDAR
PRODID:-//hacksw/handcal//NONSGML v1.0//EN
VERSION:2.0
CALSCALE:GREGORIAN
METHOD:PUBLISH
X-WR-CALNAME:Big Data Valencia - From Meetup to Pickevent Groups
X-WR-TIMEZONE:Europe/Madrid
X-WR-CALDESC:Big Data Valencia - From Meetup to Pickevent Groups
BEGIN:VEVENT
DTSTART:20150331T180000Z
DTEND:20150331T190000Z
DTSTAMP:20150331T180000Z
UID:5ab1fde658ae14196e8ab95e7eec44c0@betabeers.com
CREATED:20150228T230127Z
DESCRIPTION:https://betabeers.com/en/event/big-data-valencia-from-meetup-to
-pickevent-groups-31-marzo-2015-2535/
URL:https://betabeers.com/en/event/big-data-valencia-from-meetup-to-pickeve
nt-groups-31-marzo-2015-2535/
LAST-MODIFIED:20150228T230127Z
LOCATION:-, Valencia, España
SEQUENCE:0
STATUS:CONFIRMED
SUMMARY:Big Data Valencia - From Meetup to Pickevent Groups
TRANSP:OPAQUE
END:VEVENT
END:VCALENDAR
