BEGIN:VCALENDAR
PRODID:-//hacksw/handcal//NONSGML v1.0//EN
VERSION:2.0
CALSCALE:GREGORIAN
METHOD:PUBLISH
X-WR-CALNAME:Barcelona Software Craftsmanship - Open Space: How to code-review
X-WR-TIMEZONE:Europe/Madrid
X-WR-CALDESC:Barcelona Software Craftsmanship - Open Space: How to code-review
BEGIN:VEVENT
DTSTART:20150316T180000Z
DTEND:20150316T190000Z
DTSTAMP:20150316T180000Z
UID:59d89d4f4c4f2aa6a241b47718f33d69@betabeers.com
CREATED:20150228T230117Z
DESCRIPTION:https://betabeers.com/en/event/barcelona-software-craftsmanship
-open-space-how-to-code-review-16-marzo-2015-2532/
URL:https://betabeers.com/en/event/barcelona-software-craftsmanship-open-sp
ace-how-to-code-review-16-marzo-2015-2532/
LAST-MODIFIED:20150228T230117Z
LOCATION:Vía Augusta 59. Edificio Mercurio. 9ª- 901 Barcelona (Spain), 08
006, Barcelona, España
SEQUENCE:0
STATUS:CONFIRMED
SUMMARY:Barcelona Software Craftsmanship - Open Space: How to code-review
TRANSP:OPAQUE
END:VEVENT
END:VCALENDAR
