BEGIN:VCALENDAR
PRODID:-//hacksw/handcal//NONSGML v1.0//EN
VERSION:2.0
CALSCALE:GREGORIAN
METHOD:PUBLISH
X-WR-CALNAME:Scala Developers Barcelona - Barbudos y contramónadas
X-WR-TIMEZONE:Europe/Madrid
X-WR-CALDESC:Scala Developers Barcelona - Barbudos y contramónadas
BEGIN:VEVENT
DTSTART:20150311T180000Z
DTEND:20150311T190000Z
DTSTAMP:20150311T180000Z
UID:83eca973dda9a1fc1ea3eeee39395f3c@betabeers.com
CREATED:20150228T230106Z
DESCRIPTION:https://betabeers.com/en/event/scala-developers-barcelona-barbu
dos-contramonadas-11-marzo-2015-2528/
URL:https://betabeers.com/en/event/scala-developers-barcelona-barbudos-cont
ramonadas-11-marzo-2015-2528/
LAST-MODIFIED:20150228T230106Z
LOCATION:Carrer Bailèn, 11, 08010, Barcelona, España
SEQUENCE:0
STATUS:CONFIRMED
SUMMARY:Scala Developers Barcelona - Barbudos y contramónadas
TRANSP:OPAQUE
END:VEVENT
END:VCALENDAR
