BEGIN:VCALENDAR
PRODID:-//hacksw/handcal//NONSGML v1.0//EN
VERSION:2.0
CALSCALE:GREGORIAN
METHOD:PUBLISH
X-WR-CALNAME:MediterráneaJS
X-WR-TIMEZONE:Europe/Madrid
X-WR-CALDESC:MediterráneaJS
BEGIN:VEVENT
DTSTART:20150621T230000Z
DTEND:20150622T230000Z
DTSTAMP:20150621T230000Z
UID:ab1021a8f38acd28be1e18f9561182a6@betabeers.com
CREATED:20150223T104641Z
DESCRIPTION:https://betabeers.com/en/event/mediterraneajs-2506/
URL:https://betabeers.com/en/event/mediterraneajs-2506/
LAST-MODIFIED:20150223T104641Z
LOCATION:El Born CC, Plaça Comercial, 12 - 08003 Barcelona, Barcelona, Esp
aña
SEQUENCE:0
STATUS:CONFIRMED
SUMMARY:MediterráneaJS
TRANSP:OPAQUE
END:VEVENT
END:VCALENDAR
