BEGIN:VCALENDAR
PRODID:-//hacksw/handcal//NONSGML v1.0//EN
VERSION:2.0
CALSCALE:GREGORIAN
METHOD:PUBLISH
X-WR-CALNAME:Agile Canarias - Reunión PyBirras Tenerife 13/marzo/2015
X-WR-TIMEZONE:Europe/Madrid
X-WR-CALDESC:Agile Canarias - Reunión PyBirras Tenerife 13/marzo/2015
BEGIN:VEVENT
DTSTART:20150313T183000Z
DTEND:20150313T193000Z
DTSTAMP:20150313T183000Z
UID:2078150d5ab2ead4b9f75802fab6321b@betabeers.com
CREATED:20150221T230101Z
DESCRIPTION:https://betabeers.com/en/event/agile-canarias-reunion-pybirras-
tenerife-13-marzo-2015-13-marzo-2015-2503/
URL:https://betabeers.com/en/event/agile-canarias-reunion-pybirras-tenerife
-13-marzo-2015-13-marzo-2015-2503/
LAST-MODIFIED:20150221T230101Z
LOCATION:Carretera Cuesta Taco, 67, Santa Cruz de Tenerife, España
SEQUENCE:0
STATUS:CONFIRMED
SUMMARY:Agile Canarias - Reunión PyBirras Tenerife 13/marzo/2015
TRANSP:OPAQUE
END:VEVENT
END:VCALENDAR
