BEGIN:VCALENDAR
PRODID:-//hacksw/handcal//NONSGML v1.0//EN
VERSION:2.0
CALSCALE:GREGORIAN
METHOD:PUBLISH
X-WR-CALNAME:VIII Betabeers Bilbao
X-WR-TIMEZONE:Europe/Madrid
X-WR-CALDESC:VIII Betabeers Bilbao
BEGIN:VEVENT
DTSTART:20150227T170000Z
DTEND:20150227T190000Z
DTSTAMP:20150227T170000Z
UID:809c77f6c9c78c5a221f5bdb550acb26@betabeers.com
CREATED:20150215T114043Z
DESCRIPTION:https://betabeers.com/en/event/viii-betabeers-bilbao-2492/
URL:https://betabeers.com/en/event/viii-betabeers-bilbao-2492/
LAST-MODIFIED:20150215T114043Z
LOCATION:Paseo de Uribitarte, 1, Bilbao, España
SEQUENCE:0
STATUS:CONFIRMED
SUMMARY:VIII Betabeers Bilbao
TRANSP:OPAQUE
END:VEVENT
END:VCALENDAR
