BEGIN:VCALENDAR
PRODID:-//hacksw/handcal//NONSGML v1.0//EN
VERSION:2.0
CALSCALE:GREGORIAN
METHOD:PUBLISH
X-WR-CALNAME:PyLadies BCN - Introduction to debugging in Python (+ CodeFights!)
X-WR-TIMEZONE:Europe/Madrid
X-WR-CALDESC:PyLadies BCN - Introduction to debugging in Python (+ CodeFights!)
BEGIN:VEVENT
DTSTART:20150226T180000Z
DTEND:20150226T190000Z
DTSTAMP:20150226T180000Z
UID:c874a541c8b7f6f5229938fff7d73985@betabeers.com
CREATED:20150214T230102Z
DESCRIPTION:https://betabeers.com/en/event/pyladies-bcn-introduction-to-deb
ugging-in-python-codefights-26-febrero-2015-2486/
URL:https://betabeers.com/en/event/pyladies-bcn-introduction-to-debugging-i
n-python-codefights-26-febrero-2015-2486/
LAST-MODIFIED:20150214T230102Z
LOCATION: Roc Boronat, 138  08018 Barcelona, Barcelona, España
SEQUENCE:0
STATUS:CONFIRMED
SUMMARY:PyLadies BCN - Introduction to debugging in Python (+ CodeFights!)
TRANSP:OPAQUE
END:VEVENT
END:VCALENDAR
