BEGIN:VCALENDAR
PRODID:-//hacksw/handcal//NONSGML v1.0//EN
VERSION:2.0
CALSCALE:GREGORIAN
METHOD:PUBLISH
X-WR-CALNAME:Docker Barcelona - Docker on Networking and Continuous Delivery
X-WR-TIMEZONE:Europe/Madrid
X-WR-CALDESC:Docker Barcelona - Docker on Networking and Continuous Delivery
BEGIN:VEVENT
DTSTART:20150217T180000Z
DTEND:20150217T190000Z
DTSTAMP:20150217T180000Z
UID:9510b73a0525f16f12c73c5e5d3b35cf@betabeers.com
CREATED:20150207T230054Z
DESCRIPTION:https://betabeers.com/en/event/docker-barcelona-docker-on-netwo
rking-and-continuous-delivery-17-febrero-2015-2473/
URL:https://betabeers.com/en/event/docker-barcelona-docker-on-networking-an
d-continuous-delivery-17-febrero-2015-2473/
LAST-MODIFIED:20150207T230054Z
LOCATION:-, Barcelona, España
SEQUENCE:0
STATUS:CONFIRMED
SUMMARY:Docker Barcelona - Docker on Networking and Continuous Delivery
TRANSP:OPAQUE
END:VEVENT
END:VCALENDAR
