BEGIN:VCALENDAR
PRODID:-//hacksw/handcal//NONSGML v1.0//EN
VERSION:2.0
CALSCALE:GREGORIAN
METHOD:PUBLISH
X-WR-CALNAME:Big Data Valencia - Meetup DataLovers - Data Scientist Valencia Meetup
X-WR-TIMEZONE:Europe/Madrid
X-WR-CALDESC:Big Data Valencia - Meetup DataLovers - Data Scientist Valencia Meetup
BEGIN:VEVENT
DTSTART:20150226T190000Z
DTEND:20150226T200000Z
DTSTAMP:20150226T190000Z
UID:5eed6d6273d06573b4a14935a0399fb0@betabeers.com
CREATED:20150131T230146Z
DESCRIPTION:https://betabeers.com/en/event/big-data-valencia-meetup-datalov
ers-data-scientist-valencia-meetup-26-febrero-2015-2456/
URL:https://betabeers.com/en/event/big-data-valencia-meetup-datalovers-data
-scientist-valencia-meetup-26-febrero-2015-2456/
LAST-MODIFIED:20150131T230146Z
LOCATION:C/ de Juan Verdeguer 16, Valencia, España
SEQUENCE:0
STATUS:CONFIRMED
SUMMARY:Big Data Valencia - Meetup DataLovers - Data Scientist Valencia Mee
tup
TRANSP:OPAQUE
END:VEVENT
END:VCALENDAR
