BEGIN:VCALENDAR
PRODID:-//hacksw/handcal//NONSGML v1.0//EN
VERSION:2.0
CALSCALE:GREGORIAN
METHOD:PUBLISH
X-WR-CALNAME:AngularJS Barcelona - February Open Space
X-WR-TIMEZONE:Europe/Madrid
X-WR-CALDESC:AngularJS Barcelona - February Open Space
BEGIN:VEVENT
DTSTART:20150205T180000Z
DTEND:20150205T190000Z
DTSTAMP:20150205T180000Z
UID:64cc47d9b0a90e98072a2336ad0e5b74@betabeers.com
CREATED:20150117T230107Z
DESCRIPTION:https://betabeers.com/en/event/angularjs-barcelona-february-ope
n-space-5-febrero-2015-2426/
URL:https://betabeers.com/en/event/angularjs-barcelona-february-open-space-
5-febrero-2015-2426/
LAST-MODIFIED:20150117T230107Z
LOCATION:Carrer Bailen 11, Barcelona, España
SEQUENCE:0
STATUS:CONFIRMED
SUMMARY:AngularJS Barcelona - February Open Space
TRANSP:OPAQUE
END:VEVENT
END:VCALENDAR
