BEGIN:VCALENDAR
PRODID:-//hacksw/handcal//NONSGML v1.0//EN
VERSION:2.0
CALSCALE:GREGORIAN
METHOD:PUBLISH
X-WR-CALNAME:Inauguración de la sede de degeneratedlabs
X-WR-TIMEZONE:Europe/Madrid
X-WR-CALDESC:Inauguración de la sede de degeneratedlabs
BEGIN:VEVENT
DTSTART:20120504T170000Z
DTEND:20120504T200000Z
DTSTAMP:20120504T170000Z
UID:985a60ec25a94871081f21881187ad7c@betabeers.com
CREATED:20120426T000526Z
DESCRIPTION:https://betabeers.com/en/event/inauguracion-la-sede-degenerated
labs-4-mayo-2012-241/
URL:https://betabeers.com/en/event/inauguracion-la-sede-degeneratedlabs-4-m
ayo-2012-241/
LAST-MODIFIED:20120426T000526Z
LOCATION:Camino de la Mosquetera 41 local, Zaragoza, España
SEQUENCE:0
STATUS:CONFIRMED
SUMMARY:Inauguración de la sede de degeneratedlabs
TRANSP:OPAQUE
END:VEVENT
END:VCALENDAR
