BEGIN:VCALENDAR
PRODID:-//hacksw/handcal//NONSGML v1.0//EN
VERSION:2.0
CALSCALE:GREGORIAN
METHOD:PUBLISH
X-WR-CALNAME:Barcelona Software Craftsmanship - Dojo: introduction to Test-Driven Development
X-WR-TIMEZONE:Europe/Madrid
X-WR-CALDESC:Barcelona Software Craftsmanship - Dojo: introduction to Test-Driven Development
BEGIN:VEVENT
DTSTART:20150119T180000Z
DTEND:20150119T190000Z
DTSTAMP:20150119T180000Z
UID:59e17b8c54ea73b53173edb3611cca9e@betabeers.com
CREATED:20150103T230535Z
DESCRIPTION:https://betabeers.com/en/event/barcelona-software-craftsmanship
-dojo-introduction-to-test-driven-development-19-enero-2015-2386/
URL:https://betabeers.com/en/event/barcelona-software-craftsmanship-dojo-in
troduction-to-test-driven-development-19-enero-2015-2386/
LAST-MODIFIED:20150103T230535Z
LOCATION:-, Barcelona, España
SEQUENCE:0
STATUS:CONFIRMED
SUMMARY:Barcelona Software Craftsmanship - Dojo: introduction to Test-Drive
n Development
TRANSP:OPAQUE
END:VEVENT
END:VCALENDAR
