BEGIN:VCALENDAR
PRODID:-//hacksw/handcal//NONSGML v1.0//EN
VERSION:2.0
CALSCALE:GREGORIAN
METHOD:PUBLISH
X-WR-CALNAME:PHP Day Spain 2015
X-WR-TIMEZONE:Europe/Madrid
X-WR-CALDESC:PHP Day Spain 2015
BEGIN:VEVENT
DTSTART:20150131T083000Z
DTEND:20150131T190000Z
DTSTAMP:20150131T083000Z
UID:9239bf490855f61fc2e94721c01800b1@betabeers.com
CREATED:20141229T164447Z
DESCRIPTION:https://betabeers.com/en/event/php-day-spain-2015-2377/
URL:https://betabeers.com/en/event/php-day-spain-2015-2377/
LAST-MODIFIED:20141229T164447Z
LOCATION:Plaça Can Suris, s/n 08940 Cornellà de Llobregat, Barcelona Spai
n, Cornella de Llobregat, España
SEQUENCE:0
STATUS:CONFIRMED
SUMMARY:PHP Day Spain 2015
TRANSP:OPAQUE
END:VEVENT
END:VCALENDAR
