BEGIN:VCALENDAR
PRODID:-//hacksw/handcal//NONSGML v1.0//EN
VERSION:2.0
CALSCALE:GREGORIAN
METHOD:PUBLISH
X-WR-CALNAME:Startup Weekend Madrid
X-WR-TIMEZONE:Europe/Madrid
X-WR-CALDESC:Startup Weekend Madrid
BEGIN:VEVENT
DTSTART:20120504T170000Z
DTEND:20120506T180000Z
DTSTAMP:20120504T170000Z
UID:1b39e63d716a2332965f7d101589455b@betabeers.com
CREATED:20120423T121007Z
DESCRIPTION:https://betabeers.com/en/event/startup-weekend-madrid-4-mayo-20
12-237/
URL:https://betabeers.com/en/event/startup-weekend-madrid-4-mayo-2012-237/
LAST-MODIFIED:20120423T121007Z
LOCATION:Madrid International Lab. c/Bailén, 41, Madrid, España
SEQUENCE:0
STATUS:CONFIRMED
SUMMARY:Startup Weekend Madrid
TRANSP:OPAQUE
END:VEVENT
END:VCALENDAR
