BEGIN:VCALENDAR
PRODID:-//hacksw/handcal//NONSGML v1.0//EN
VERSION:2.0
CALSCALE:GREGORIAN
METHOD:PUBLISH
X-WR-CALNAME:Women who code
X-WR-TIMEZONE:Europe/Madrid
X-WR-CALDESC:Women who code
BEGIN:VEVENT
DTSTART:20141213T160000Z
DTEND:20141213T180000Z
DTSTAMP:20141213T160000Z
UID:b258063a25059f294a8227794c830be2@betabeers.com
CREATED:20141210T150636Z
DESCRIPTION:https://betabeers.com/en/event/women-who-code-13-diciembre-2014
-2357/
URL:https://betabeers.com/en/event/women-who-code-13-diciembre-2014-2357/
LAST-MODIFIED:20141210T150636Z
LOCATION:C/Bailén 11 (Makers of Barcelona), Barcelona, España
SEQUENCE:0
STATUS:CONFIRMED
SUMMARY:Women who code
TRANSP:OPAQUE
END:VEVENT
END:VCALENDAR
