BEGIN:VCALENDAR
PRODID:-//hacksw/handcal//NONSGML v1.0//EN
VERSION:2.0
CALSCALE:GREGORIAN
METHOD:PUBLISH
X-WR-CALNAME:Betabeers London
X-WR-TIMEZONE:Europe/Madrid
X-WR-CALDESC:Betabeers London
BEGIN:VEVENT
DTSTART:20120510T173000Z
DTEND:20120510T193000Z
DTSTAMP:20120510T173000Z
UID:7e16bf5962fdaaf38da96f0202cdb299@betabeers.com
CREATED:20120420T200332Z
DESCRIPTION:https://betabeers.com/en/event/betabeers-london-235/
URL:https://betabeers.com/en/event/betabeers-london-235/
LAST-MODIFIED:20120420T200332Z
LOCATION:4-5 BONHILL STREET LONDON EC2A 4BX, London, Reino Unido
SEQUENCE:0
STATUS:CONFIRMED
SUMMARY:Betabeers London
TRANSP:OPAQUE
END:VEVENT
END:VCALENDAR
