BEGIN:VCALENDAR
PRODID:-//hacksw/handcal//NONSGML v1.0//EN
VERSION:2.0
CALSCALE:GREGORIAN
METHOD:PUBLISH
X-WR-CALNAME:EU Mobile Challenge
X-WR-TIMEZONE:Europe/Madrid
X-WR-CALDESC:EU Mobile Challenge
BEGIN:VEVENT
DTSTART:20141128T230000Z
DTEND:20141230T230000Z
DTSTAMP:20141128T230000Z
UID:b1d215a04605c0c7c624a15927e113d8@betabeers.com
CREATED:20141129T194213Z
DESCRIPTION:https://betabeers.com/en/event/eu-mobile-challenge-29-noviembre
-2014-2327/
URL:https://betabeers.com/en/event/eu-mobile-challenge-29-noviembre-2014-23
27/
LAST-MODIFIED:20141129T194213Z
LOCATION:Semifinales en 8 ciudades españolas y 9 más en el resto de Europ
a. Final en Barcelona, 14 países en Europa.
SEQUENCE:0
STATUS:CONFIRMED
SUMMARY:EU Mobile Challenge
TRANSP:OPAQUE
END:VEVENT
END:VCALENDAR
