BEGIN:VCALENDAR
PRODID:-//hacksw/handcal//NONSGML v1.0//EN
VERSION:2.0
CALSCALE:GREGORIAN
METHOD:PUBLISH
X-WR-CALNAME:FIMP (Foro Internet Meeting Point)
X-WR-TIMEZONE:Europe/Madrid
X-WR-CALDESC:FIMP (Foro Internet Meeting Point)
BEGIN:VEVENT
DTSTART:20141203T230000Z
DTEND:20141205T230000Z
DTSTAMP:20141203T230000Z
UID:398d258842609d7e9a60426ed67afe7b@betabeers.com
CREATED:20141126T202954Z
DESCRIPTION:https://betabeers.com/en/event/fimp-foro-internet-meeting-point
-2324/
URL:https://betabeers.com/en/event/fimp-foro-internet-meeting-point-2324/
LAST-MODIFIED:20141126T202954Z
LOCATION:Auditorio Príncipe Felipe Plaza de la Gesta, Oviedo (Asturias), O
viedo, España
SEQUENCE:0
STATUS:CONFIRMED
SUMMARY:FIMP (Foro Internet Meeting Point)
TRANSP:OPAQUE
END:VEVENT
END:VCALENDAR
