BEGIN:VCALENDAR
PRODID:-//hacksw/handcal//NONSGML v1.0//EN
VERSION:2.0
CALSCALE:GREGORIAN
METHOD:PUBLISH
X-WR-CALNAME:Jornada Patentes y Marcas
X-WR-TIMEZONE:Europe/Madrid
X-WR-CALDESC:Jornada Patentes y Marcas
BEGIN:VEVENT
DTSTART:20141210T090000Z
DTEND:20141210T110000Z
DTSTAMP:20141210T090000Z
UID:5f9d828ca7df8cfb449c2b34f8d4b5fd@betabeers.com
CREATED:20141125T105851Z
DESCRIPTION:https://betabeers.com/en/event/jornada-patentes-marcas-2322/
URL:https://betabeers.com/en/event/jornada-patentes-marcas-2322/
LAST-MODIFIED:20141125T105851Z
LOCATION:Sala de Graus - 42 Carrer de Sant Joan de la Salle, Barcelona, Esp
aña
SEQUENCE:0
STATUS:CONFIRMED
SUMMARY:Jornada Patentes y Marcas
TRANSP:OPAQUE
END:VEVENT
END:VCALENDAR
