BEGIN:VCALENDAR
PRODID:-//hacksw/handcal//NONSGML v1.0//EN
VERSION:2.0
CALSCALE:GREGORIAN
METHOD:PUBLISH
X-WR-CALNAME:Barcelona Cassandra Users - Cassandra Intro & Java driver architectures
X-WR-TIMEZONE:Europe/Madrid
X-WR-CALDESC:Barcelona Cassandra Users - Cassandra Intro & Java driver architectures
BEGIN:VEVENT
DTSTART:20141120T173000Z
DTEND:20141120T183000Z
DTSTAMP:20141120T173000Z
UID:fbc83b704420183010fcd16e589108ed@betabeers.com
CREATED:20141115T230055Z
DESCRIPTION:https://betabeers.com/en/event/barcelona-cassandra-users-cassan
dra-intro-java-driver-architectures-20-noviembre-2014-2303/
URL:https://betabeers.com/en/event/barcelona-cassandra-users-cassandra-intr
o-java-driver-architectures-20-noviembre-2014-2303/
LAST-MODIFIED:20141115T230055Z
LOCATION:Carrer de Fontanella 2, Barcelona, España
SEQUENCE:0
STATUS:CONFIRMED
SUMMARY:Barcelona Cassandra Users - Cassandra Intro & Java driver architect
ures
TRANSP:OPAQUE
END:VEVENT
END:VCALENDAR
