BEGIN:VCALENDAR
PRODID:-//hacksw/handcal//NONSGML v1.0//EN
VERSION:2.0
CALSCALE:GREGORIAN
METHOD:PUBLISH
X-WR-CALNAME:Internet of Things Santander - 3er IoT Santander Meetup!
X-WR-TIMEZONE:Europe/Madrid
X-WR-CALDESC:Internet of Things Santander - 3er IoT Santander Meetup!
BEGIN:VEVENT
DTSTART:20141121T180000Z
DTEND:20141121T190000Z
DTSTAMP:20141121T180000Z
UID:ba9a1ae03a108fc0b1989b0bb7289db8@betabeers.com
CREATED:20141115T230045Z
DESCRIPTION:https://betabeers.com/en/event/internet-things-santander-3er-io
t-santander-meetup-21-noviembre-2014-2302/
URL:https://betabeers.com/en/event/internet-things-santander-3er-iot-santan
der-meetup-21-noviembre-2014-2302/
LAST-MODIFIED:20141115T230045Z
LOCATION:C/ General Dávila, 129 A, Santander, España
SEQUENCE:0
STATUS:CONFIRMED
SUMMARY:Internet of Things Santander - 3er IoT Santander Meetup!
TRANSP:OPAQUE
END:VEVENT
END:VCALENDAR
