BEGIN:VCALENDAR
PRODID:-//hacksw/handcal//NONSGML v1.0//EN
VERSION:2.0
CALSCALE:GREGORIAN
METHOD:PUBLISH
X-WR-CALNAME:MallorcaJS - Arduino + Node.js
X-WR-TIMEZONE:Europe/Madrid
X-WR-CALDESC:MallorcaJS - Arduino + Node.js
BEGIN:VEVENT
DTSTART:20141113T180000Z
DTEND:20141113T190000Z
DTSTAMP:20141113T180000Z
UID:c868c38bdaa7f84b2b9246a37e512520@betabeers.com
CREATED:20141101T230131Z
DESCRIPTION:https://betabeers.com/en/event/mallorcajs-arduino-nodejs-13-nov
iembre-2014-2280/
URL:https://betabeers.com/en/event/mallorcajs-arduino-nodejs-13-noviembre-2
014-2280/
LAST-MODIFIED:20141101T230131Z
LOCATION:22 carrer socorrs , Palma, España
SEQUENCE:0
STATUS:CONFIRMED
SUMMARY:MallorcaJS - Arduino + Node.js
TRANSP:OPAQUE
END:VEVENT
END:VCALENDAR
