BEGIN:VCALENDAR
PRODID:-//hacksw/handcal//NONSGML v1.0//EN
VERSION:2.0
CALSCALE:GREGORIAN
METHOD:PUBLISH
X-WR-CALNAME:PyLadies BCN - PyLadies BCN 2.0
X-WR-TIMEZONE:Europe/Madrid
X-WR-CALDESC:PyLadies BCN - PyLadies BCN 2.0
BEGIN:VEVENT
DTSTART:20141106T180000Z
DTEND:20141106T190000Z
DTSTAMP:20141106T180000Z
UID:e908c55fe4a8ecca4c127bdbcbdb165f@betabeers.com
CREATED:20141101T230120Z
DESCRIPTION:https://betabeers.com/en/event/pyladies-bcn-pyladies-bcn-20-6-n
oviembre-2014-2277/
URL:https://betabeers.com/en/event/pyladies-bcn-pyladies-bcn-20-6-noviembre
-2014-2277/
LAST-MODIFIED:20141101T230120Z
LOCATION:-, Barcelona, España
SEQUENCE:0
STATUS:CONFIRMED
SUMMARY:PyLadies BCN - PyLadies BCN 2.0
TRANSP:OPAQUE
END:VEVENT
END:VCALENDAR
