BEGIN:VCALENDAR
PRODID:-//hacksw/handcal//NONSGML v1.0//EN
VERSION:2.0
CALSCALE:GREGORIAN
METHOD:PUBLISH
X-WR-CALNAME:wecom
X-WR-TIMEZONE:Europe/Madrid
X-WR-CALDESC:wecom
BEGIN:VEVENT
DTSTART:20120509T080000Z
DTEND:20120510T190000Z
DTSTAMP:20120509T080000Z
UID:5e8818fb212e64479ef9d755caf28871@betabeers.com
CREATED:20120415T141639Z
DESCRIPTION:https://betabeers.com/en/event/wecom-9-mayo-2012-226/
URL:https://betabeers.com/en/event/wecom-9-mayo-2012-226/
LAST-MODIFIED:20120415T141639Z
LOCATION:C/ Henry Collet, 90-98 37007, Salamanca, España
SEQUENCE:0
STATUS:CONFIRMED
SUMMARY:wecom
TRANSP:OPAQUE
END:VEVENT
END:VCALENDAR
