BEGIN:VCALENDAR
PRODID:-//hacksw/handcal//NONSGML v1.0//EN
VERSION:2.0
CALSCALE:GREGORIAN
METHOD:PUBLISH
X-WR-CALNAME:SeedRocket - Taller de Symfony2
X-WR-TIMEZONE:Europe/Madrid
X-WR-CALDESC:SeedRocket - Taller de Symfony2
BEGIN:VEVENT
DTSTART:20120426T173000Z
DTEND:20120426T190000Z
DTSTAMP:20120426T173000Z
UID:8c05f85dbe520c0b16771e9e07e23dd3@betabeers.com
CREATED:20120413T131711Z
DESCRIPTION:https://betabeers.com/en/event/seedrocket-taller-symfony2-26-ab
ril-2012-225/
URL:https://betabeers.com/en/event/seedrocket-taller-symfony2-26-abril-2012
-225/
LAST-MODIFIED:20120413T131711Z
LOCATION:Calle Llacuna, 162, Barcelona, España
SEQUENCE:0
STATUS:CONFIRMED
SUMMARY:SeedRocket - Taller de Symfony2
TRANSP:OPAQUE
END:VEVENT
END:VCALENDAR
