BEGIN:VCALENDAR
PRODID:-//hacksw/handcal//NONSGML v1.0//EN
VERSION:2.0
CALSCALE:GREGORIAN
METHOD:PUBLISH
X-WR-CALNAME:Charla-taller Dependency Injection, TDD y otras prácticas
X-WR-TIMEZONE:Europe/Madrid
X-WR-CALDESC:Charla-taller Dependency Injection, TDD y otras prácticas
BEGIN:VEVENT
DTSTART:20141114T183000Z
DTEND:20141114T210000Z
DTSTAMP:20141114T183000Z
UID:20e25f8972e6e657165c3c2f7c942a22@betabeers.com
CREATED:20141020T152839Z
DESCRIPTION:https://betabeers.com/en/event/charla-taller-dependency-injecti
on-tdd-otras-practicas-2241/
URL:https://betabeers.com/en/event/charla-taller-dependency-injection-tdd-o
tras-practicas-2241/
LAST-MODIFIED:20141020T152839Z
LOCATION:A determinar, Zaragoza, España
SEQUENCE:0
STATUS:CONFIRMED
SUMMARY:Charla-taller Dependency Injection, TDD y otras prácticas
TRANSP:OPAQUE
END:VEVENT
END:VCALENDAR
