BEGIN:VCALENDAR
PRODID:-//hacksw/handcal//NONSGML v1.0//EN
VERSION:2.0
CALSCALE:GREGORIAN
METHOD:PUBLISH
X-WR-CALNAME:WordCamp Mallorca 2014
X-WR-TIMEZONE:Europe/Madrid
X-WR-CALDESC:WordCamp Mallorca 2014
BEGIN:VEVENT
DTSTART:20141031T080000Z
DTEND:20141031T190000Z
DTSTAMP:20141031T080000Z
UID:aa2023e4165c4c7bc020ee6d60b0e43b@betabeers.com
CREATED:20141020T125518Z
DESCRIPTION:https://betabeers.com/en/event/wordcamp-mallorca-2014-2240/
URL:https://betabeers.com/en/event/wordcamp-mallorca-2014-2240/
LAST-MODIFIED:20141020T125518Z
LOCATION:Caixa Forum, Grand Hotel de Palma, Plaça Weyler nº3, 07001, Palm
a de Mallorca, España
SEQUENCE:0
STATUS:CONFIRMED
SUMMARY:WordCamp Mallorca 2014
TRANSP:OPAQUE
END:VEVENT
END:VCALENDAR
