BEGIN:VCALENDAR
PRODID:-//hacksw/handcal//NONSGML v1.0//EN
VERSION:2.0
CALSCALE:GREGORIAN
METHOD:PUBLISH
X-WR-CALNAME:AngularJS Barcelona - November Open Space
X-WR-TIMEZONE:Europe/Madrid
X-WR-CALDESC:AngularJS Barcelona - November Open Space
BEGIN:VEVENT
DTSTART:20141113T180000Z
DTEND:20141113T190000Z
DTSTAMP:20141113T180000Z
UID:1146e24f299e860b3f67d12d27648696@betabeers.com
CREATED:20141018T230039Z
DESCRIPTION:https://betabeers.com/en/event/angularjs-barcelona-november-ope
n-space-13-noviembre-2014-2232/
URL:https://betabeers.com/en/event/angularjs-barcelona-november-open-space-
13-noviembre-2014-2232/
LAST-MODIFIED:20141018T230039Z
LOCATION:Carrer Bailen 11, Barcelona, España
SEQUENCE:0
STATUS:CONFIRMED
SUMMARY:AngularJS Barcelona - November Open Space
TRANSP:OPAQUE
END:VEVENT
END:VCALENDAR
