BEGIN:VCALENDAR
PRODID:-//hacksw/handcal//NONSGML v1.0//EN
VERSION:2.0
CALSCALE:GREGORIAN
METHOD:PUBLISH
X-WR-CALNAME:Global Day Coderetreat 2014
X-WR-TIMEZONE:Europe/Madrid
X-WR-CALDESC:Global Day Coderetreat 2014
BEGIN:VEVENT
DTSTART:20141115T080000Z
DTEND:20141115T180000Z
DTSTAMP:20141115T080000Z
UID:ac27c80b2e939bf8120b87f82879bffb@betabeers.com
CREATED:20141017T145404Z
DESCRIPTION:https://betabeers.com/en/event/global-day-coderetreat-2014-2228
/
URL:https://betabeers.com/en/event/global-day-coderetreat-2014-2228/
LAST-MODIFIED:20141017T145404Z
LOCATION:C/ Alta Gracia, 50, Ciudad Real, España
SEQUENCE:0
STATUS:CONFIRMED
SUMMARY:Global Day Coderetreat 2014
TRANSP:OPAQUE
END:VEVENT
END:VCALENDAR
