BEGIN:VCALENDAR
PRODID:-//hacksw/handcal//NONSGML v1.0//EN
VERSION:2.0
CALSCALE:GREGORIAN
METHOD:PUBLISH
X-WR-CALNAME:SeedRocket Weekend
X-WR-TIMEZONE:Europe/Madrid
X-WR-CALDESC:SeedRocket Weekend
BEGIN:VEVENT
DTSTART:20120505T080000Z
DTEND:20120506T190000Z
DTSTAMP:20120505T080000Z
UID:9b6908cd299a332c7c190ab9a0d07f2d@betabeers.com
CREATED:20120411T103843Z
DESCRIPTION:https://betabeers.com/en/event/seedrocket-weekend-5-mayo-2012-2
21/
URL:https://betabeers.com/en/event/seedrocket-weekend-5-mayo-2012-221/
LAST-MODIFIED:20120411T103843Z
LOCATION:Acero, 30, Barcelona, España
SEQUENCE:0
STATUS:CONFIRMED
SUMMARY:SeedRocket Weekend
TRANSP:OPAQUE
END:VEVENT
END:VCALENDAR
