BEGIN:VCALENDAR
PRODID:-//hacksw/handcal//NONSGML v1.0//EN
VERSION:2.0
CALSCALE:GREGORIAN
METHOD:PUBLISH
X-WR-CALNAME:Barcelona Software Craftsmanship - Software Craftsmanship Barcelona 2014
X-WR-TIMEZONE:Europe/Madrid
X-WR-CALDESC:Barcelona Software Craftsmanship - Software Craftsmanship Barcelona 2014
BEGIN:VEVENT
DTSTART:20141025T083000Z
DTEND:20141025T093000Z
DTSTAMP:20141025T083000Z
UID:f76c58410141644fccec5b479f78a94d@betabeers.com
CREATED:20141004T230116Z
DESCRIPTION:https://betabeers.com/en/event/barcelona-software-craftsmanship
-software-craftsmanship-barcelona-2014-25-octubre-2014-2198/
URL:https://betabeers.com/en/event/barcelona-software-craftsmanship-softwar
e-craftsmanship-barcelona-2014-25-octubre-2014-2198/
LAST-MODIFIED:20141004T230116Z
LOCATION:Carrer dels Almogàvers, 123, Barcelona, España
SEQUENCE:0
STATUS:CONFIRMED
SUMMARY:Barcelona Software Craftsmanship - Software Craftsmanship Barcelona
 2014
TRANSP:OPAQUE
END:VEVENT
END:VCALENDAR
