BEGIN:VCALENDAR
PRODID:-//hacksw/handcal//NONSGML v1.0//EN
VERSION:2.0
CALSCALE:GREGORIAN
METHOD:PUBLISH
X-WR-CALNAME:Scala Developers Barcelona - Scalatron Kickoff
X-WR-TIMEZONE:Europe/Madrid
X-WR-CALDESC:Scala Developers Barcelona - Scalatron Kickoff
BEGIN:VEVENT
DTSTART:20141016T180000Z
DTEND:20141016T190000Z
DTSTAMP:20141016T180000Z
UID:249c8ced381decce75028fa2a625555b@betabeers.com
CREATED:20141004T230105Z
DESCRIPTION:https://betabeers.com/en/event/scala-developers-barcelona-scala
tron-kickoff-16-octubre-2014-2197/
URL:https://betabeers.com/en/event/scala-developers-barcelona-scalatron-kic
koff-16-octubre-2014-2197/
LAST-MODIFIED:20141004T230105Z
LOCATION:-, Barcelona, España
SEQUENCE:0
STATUS:CONFIRMED
SUMMARY:Scala Developers Barcelona - Scalatron Kickoff
TRANSP:OPAQUE
END:VEVENT
END:VCALENDAR
