BEGIN:VCALENDAR
PRODID:-//hacksw/handcal//NONSGML v1.0//EN
VERSION:2.0
CALSCALE:GREGORIAN
METHOD:PUBLISH
X-WR-CALNAME:MallorcaJS - Talk Node.js + More!!
X-WR-TIMEZONE:Europe/Madrid
X-WR-CALDESC:MallorcaJS - Talk Node.js + More!!
BEGIN:VEVENT
DTSTART:20141002T173000Z
DTEND:20141002T183000Z
DTSTAMP:20141002T173000Z
UID:fe3b2a68f77a7da5751a2a6cde9c9ad3@betabeers.com
CREATED:20140920T230058Z
DESCRIPTION:https://betabeers.com/en/event/mallorcajs-talk-nodejs-more-2-oc
tubre-2014-2166/
URL:https://betabeers.com/en/event/mallorcajs-talk-nodejs-more-2-octubre-20
14-2166/
LAST-MODIFIED:20140920T230058Z
LOCATION:-, Palma, España
SEQUENCE:0
STATUS:CONFIRMED
SUMMARY:MallorcaJS - Talk Node.js + More!!
TRANSP:OPAQUE
END:VEVENT
END:VCALENDAR
