BEGIN:VCALENDAR
PRODID:-//hacksw/handcal//NONSGML v1.0//EN
VERSION:2.0
CALSCALE:GREGORIAN
METHOD:PUBLISH
X-WR-CALNAME:WordPress Barcelona - WordPress 4 y sobre la WordCamp Europe
X-WR-TIMEZONE:Europe/Madrid
X-WR-CALDESC:WordPress Barcelona - WordPress 4 y sobre la WordCamp Europe
BEGIN:VEVENT
DTSTART:20141023T180000Z
DTEND:20141023T190000Z
DTSTAMP:20141023T180000Z
UID:b4e7e5b7d4c70d0bfe769a3d759c9e9a@betabeers.com
CREATED:20140920T230045Z
DESCRIPTION:https://betabeers.com/en/event/wordpress-barcelona-wordpress-4-
sobre-la-wordcamp-europe-23-octubre-2014-2165/
URL:https://betabeers.com/en/event/wordpress-barcelona-wordpress-4-sobre-la
-wordcamp-europe-23-octubre-2014-2165/
LAST-MODIFIED:20140920T230045Z
LOCATION:Fontanella 2, Barcelona, España
SEQUENCE:0
STATUS:CONFIRMED
SUMMARY:WordPress Barcelona - WordPress 4 y sobre la WordCamp Europe
TRANSP:OPAQUE
END:VEVENT
END:VCALENDAR
