BEGIN:VCALENDAR
PRODID:-//hacksw/handcal//NONSGML v1.0//EN
VERSION:2.0
CALSCALE:GREGORIAN
METHOD:PUBLISH
X-WR-CALNAME:Agile Canarias - Mini Open Space
X-WR-TIMEZONE:Europe/Madrid
X-WR-CALDESC:Agile Canarias - Mini Open Space
BEGIN:VEVENT
DTSTART:20140912T183000Z
DTEND:20140912T193000Z
DTSTAMP:20140912T183000Z
UID:eb25919e2f793d6c94f154aeb3c0da7b@betabeers.com
CREATED:20140830T230108Z
DESCRIPTION:https://betabeers.com/en/event/agile-canarias-mini-open-space-1
2-septiembre-2014-2100/
URL:https://betabeers.com/en/event/agile-canarias-mini-open-space-12-septie
mbre-2014-2100/
LAST-MODIFIED:20140830T230108Z
LOCATION:-, Santa Cruz de Tenerife, España
SEQUENCE:0
STATUS:CONFIRMED
SUMMARY:Agile Canarias - Mini Open Space
TRANSP:OPAQUE
END:VEVENT
END:VCALENDAR
