BEGIN:VCALENDAR
PRODID:-//hacksw/handcal//NONSGML v1.0//EN
VERSION:2.0
CALSCALE:GREGORIAN
METHOD:PUBLISH
X-WR-CALNAME:Ironhack Barcelona Hackshow (Demoday)
X-WR-TIMEZONE:Europe/Madrid
X-WR-CALDESC:Ironhack Barcelona Hackshow (Demoday)
BEGIN:VEVENT
DTSTART:20140829T160000Z
DTEND:20140829T180000Z
DTSTAMP:20140829T160000Z
UID:2fe02cbd8a47fe28d15e9836982a6fe3@betabeers.com
CREATED:20140825T160012Z
DESCRIPTION:https://betabeers.com/en/event/ironhack-barcelona-hackshow-demo
day-29-agosto-2014-2094/
URL:https://betabeers.com/en/event/ironhack-barcelona-hackshow-demoday-29-a
gosto-2014-2094/
LAST-MODIFIED:20140825T160012Z
LOCATION:MOB Barcelona, Carrer Bailèn 11, Barcelona, España
SEQUENCE:0
STATUS:CONFIRMED
SUMMARY:Ironhack Barcelona Hackshow (Demoday)
TRANSP:OPAQUE
END:VEVENT
END:VCALENDAR
