BEGIN:VCALENDAR
PRODID:-//hacksw/handcal//NONSGML v1.0//EN
VERSION:2.0
CALSCALE:GREGORIAN
METHOD:PUBLISH
X-WR-CALNAME:Madrid MongoDB User Group - Vuelta de Vaciones Madrid MUG
X-WR-TIMEZONE:Europe/Madrid
X-WR-CALDESC:Madrid MongoDB User Group - Vuelta de Vaciones Madrid MUG
BEGIN:VEVENT
DTSTART:20140918T180000Z
DTEND:20140918T190000Z
DTSTAMP:20140918T180000Z
UID:28b49d3918d34d75fd49d71f86f55d16@betabeers.com
CREATED:20140823T230010Z
DESCRIPTION:https://betabeers.com/en/event/madrid-mongodb-user-group-vuelta
-vaciones-madrid-mug-18-septiembre-2014-2086/
URL:https://betabeers.com/en/event/madrid-mongodb-user-group-vuelta-vacione
s-madrid-mug-18-septiembre-2014-2086/
LAST-MODIFIED:20140823T230010Z
LOCATION:Calle María de Molina 27, Madrid, España
SEQUENCE:0
STATUS:CONFIRMED
SUMMARY:Madrid MongoDB User Group - Vuelta de Vaciones Madrid MUG
TRANSP:OPAQUE
END:VEVENT
END:VCALENDAR
