BEGIN:VCALENDAR
PRODID:-//hacksw/handcal//NONSGML v1.0//EN
VERSION:2.0
CALSCALE:GREGORIAN
METHOD:PUBLISH
X-WR-CALNAME:Hackathon Lovers - Primer #SummerHackVLC en Valencia
X-WR-TIMEZONE:Europe/Madrid
X-WR-CALDESC:Hackathon Lovers - Primer #SummerHackVLC en Valencia
BEGIN:VEVENT
DTSTART:20140906T080000Z
DTEND:20140907T200000Z
DTSTAMP:20140906T080000Z
UID:24515ca9f15fe17da928271b7d8233c1@betabeers.com
CREATED:20140819T140730Z
DESCRIPTION:https://betabeers.com/en/event/hackathon-lovers-primer-summerha
ckvlc-valencia-2082/
URL:https://betabeers.com/en/event/hackathon-lovers-primer-summerhackvlc-va
lencia-2082/
LAST-MODIFIED:20140819T140730Z
LOCATION:Carrer dels Traginers 1, Valencia, España
SEQUENCE:0
STATUS:CONFIRMED
SUMMARY:Hackathon Lovers - Primer #SummerHackVLC en Valencia
TRANSP:OPAQUE
END:VEVENT
END:VCALENDAR
